BEGIN:VCALENDAR
VERSION:2.0
PRODID:-//jEvents 2.0 for Joomla//EN
CALSCALE:GREGORIAN
METHOD:PUBLISH
BEGIN:VEVENT
UID:b41775000aa391b41cf70c9f99c7f00e
CATEGORIES:Veranstaltungen
CREATED:20190125T121605
SUMMARY:Workshop "Act it" ,2s+3s
DESCRIPTION:
DTSTAMP:20260423T145946
DTSTART:20190205T070000
DTEND:20190205T110000
SEQUENCE:0
TRANSP:OPAQUE
END:VEVENT
END:VCALENDAR