BEGIN:VCALENDAR
VERSION:2.0
PRODID:-//jEvents 2.0 for Joomla//EN
CALSCALE:GREGORIAN
METHOD:PUBLISH
BEGIN:VEVENT
UID:dd4763a9a31a32466cee6a3fbae5836c
CATEGORIES:Veranstaltungen
CREATED:20190125T121707
SUMMARY:Workshop "Act it", 2a+2wb
DESCRIPTION:
DTSTAMP:20260423T145816
DTSTART:20190207T070000
DTEND:20190207T160000
SEQUENCE:0
TRANSP:OPAQUE
END:VEVENT
END:VCALENDAR