BEGIN:VCALENDAR
VERSION:2.0
PRODID:-//jEvents 2.0 for Joomla//EN
CALSCALE:GREGORIAN
METHOD:PUBLISH
BEGIN:VEVENT
UID:b893217dd4cdc337afaff4a762c646c3
CATEGORIES:Veranstaltungen
CREATED:20190125T121846
SUMMARY:Semesterferien
DESCRIPTION:
DTSTAMP:20260423T150118
DTSTART:20190211T070000
DTEND:20190215T160000
SEQUENCE:0
TRANSP:OPAQUE
END:VEVENT
END:VCALENDAR