BEGIN:VCALENDAR
VERSION:2.0
PRODID:-//jEvents 2.0 for Joomla//EN
CALSCALE:GREGORIAN
METHOD:PUBLISH
BEGIN:VEVENT
UID:d2db79e60f956bf3855dd5f539b1e306
CATEGORIES:Veranstaltungen
CREATED:20190125T122022
SUMMARY:AustauschschülerInnen Cles in Reutte
DESCRIPTION:
DTSTAMP:20260423T143430
DTSTART:20190218T110000
DTEND:20190222T160000
SEQUENCE:0
TRANSP:OPAQUE
END:VEVENT
END:VCALENDAR