BEGIN:VCALENDAR
VERSION:2.0
PRODID:-//jEvents 2.0 for Joomla//EN
CALSCALE:GREGORIAN
METHOD:PUBLISH
BEGIN:VEVENT
UID:848a36aa833496483526f3348c16564d
CATEGORIES:Veranstaltungen
CREATED:20190125T122115
SUMMARY:Fremsprachenwettbewerb IBK
DESCRIPTION:
DTSTAMP:20260423T145817
DTSTART:20190221T070000
DTEND:20190221T160000
SEQUENCE:0
TRANSP:OPAQUE
END:VEVENT
END:VCALENDAR