BEGIN:VCALENDAR
VERSION:2.0
PRODID:-//jEvents 2.0 for Joomla//EN
CALSCALE:GREGORIAN
METHOD:PUBLISH
BEGIN:VEVENT
UID:6c98913d63ce947162e6872be0e2a280
CATEGORIES:Veranstaltungen
CREATED:20190125T122150
SUMMARY:schulautonom frei
DESCRIPTION:
DTSTAMP:20260423T153348
DTSTART:20190301T070000
DTEND:20190301T160000
SEQUENCE:0
TRANSP:OPAQUE
END:VEVENT
END:VCALENDAR