BEGIN:VCALENDAR
VERSION:2.0
PRODID:-//jEvents 2.0 for Joomla//EN
CALSCALE:GREGORIAN
METHOD:PUBLISH
BEGIN:VEVENT
UID:6dd882804f7bee179fb6fd9bb91295ff
CATEGORIES:Veranstaltungen
CREATED:20190125T133808
SUMMARY:Exkursion 1wa/1wb Firma Rauch Rankweil
DESCRIPTION:
DTSTAMP:20260423T143414
DTSTART:20190207T070000
DTEND:20190207T160000
SEQUENCE:0
TRANSP:OPAQUE
END:VEVENT
END:VCALENDAR