BEGIN:VCALENDAR
VERSION:2.0
PRODID:-//jEvents 2.0 for Joomla//EN
CALSCALE:GREGORIAN
METHOD:PUBLISH
BEGIN:VEVENT
UID:96330eeb93d40705ceddecef0d7a5d79
CATEGORIES:Veranstaltungen
CREATED:20190207T152352
SUMMARY:pädagogische Konferenz
DESCRIPTION:
DTSTAMP:20260423T143507
DTSTART:20190227T150000
DTEND:20190227T170000
SEQUENCE:0
TRANSP:OPAQUE
END:VEVENT
END:VCALENDAR