BEGIN:VCALENDAR
VERSION:2.0
PRODID:-//jEvents 2.0 for Joomla//EN
CALSCALE:GREGORIAN
METHOD:PUBLISH
BEGIN:VEVENT
UID:3e58f636e85a3339068551d7d36d7667
CATEGORIES:Veranstaltungen
CREATED:20190207T152442
SUMMARY:schulautonom frei
DESCRIPTION:
DTSTAMP:20260423T153143
DTSTART:20190318T070000
DTEND:20190318T160000
SEQUENCE:0
TRANSP:OPAQUE
END:VEVENT
END:VCALENDAR