BEGIN:VCALENDAR
VERSION:2.0
PRODID:-//jEvents 2.0 for Joomla//EN
CALSCALE:GREGORIAN
METHOD:PUBLISH
BEGIN:VEVENT
UID:fae826e423255d3c56853039ccaf15f6
CATEGORIES:Veranstaltungen
CREATED:20190207T152511
SUMMARY:Josefi - schulfrei
DESCRIPTION:
DTSTAMP:20260423T152844
DTSTART:20190319T070000
DTEND:20190319T160000
SEQUENCE:0
TRANSP:OPAQUE
END:VEVENT
END:VCALENDAR