BEGIN:VCALENDAR
VERSION:2.0
PRODID:-//jEvents 2.0 for Joomla//EN
CALSCALE:GREGORIAN
METHOD:PUBLISH
BEGIN:VEVENT
UID:e5e138ee0914b3d0e1f533d61a532a16
CATEGORIES:Veranstaltungen
CREATED:20190207T152555
SUMMARY:pädagogische Konferenz
DESCRIPTION:
DTSTAMP:20260423T165638
DTSTART:20190320T150000
DTEND:20190320T170000
SEQUENCE:0
TRANSP:OPAQUE
END:VEVENT
END:VCALENDAR