BEGIN:VCALENDAR
VERSION:2.0
PRODID:-//jEvents 2.0 for Joomla//EN
CALSCALE:GREGORIAN
METHOD:PUBLISH
BEGIN:VEVENT
UID:2e50846c83384770d853ac7acf0214c4
CATEGORIES:Veranstaltungen
CREATED:20190207T153152
SUMMARY:Wirtschaftsreise Barcelona 4a
DESCRIPTION:
DTSTAMP:20260423T152552
DTSTART:20190325T070000
DTEND:20190329T160000
SEQUENCE:0
TRANSP:OPAQUE
END:VEVENT
END:VCALENDAR