BEGIN:VCALENDAR
VERSION:2.0
PRODID:-//jEvents 2.0 for Joomla//EN
CALSCALE:GREGORIAN
METHOD:PUBLISH
BEGIN:VEVENT
UID:92b3f9f72861fd5df6630e5073256818
CATEGORIES:Veranstaltungen
CREATED:20190207T153311
SUMMARY:Redewettbewerb VZ Breitenwang
DESCRIPTION:
DTSTAMP:20260423T153013
DTSTART:20190329T180000
DTEND:20190329T210000
SEQUENCE:0
TRANSP:OPAQUE
END:VEVENT
END:VCALENDAR