BEGIN:VCALENDAR
VERSION:2.0
PRODID:-//jEvents 2.0 for Joomla//EN
CALSCALE:GREGORIAN
METHOD:PUBLISH
BEGIN:VEVENT
UID:01fb75267c69a60a9c1e4c6a63b1780c
CATEGORIES:Veranstaltungen
CREATED:20190207T153402
SUMMARY:Nacht der Projekte WK Reutte
DESCRIPTION:
DTSTAMP:20260423T095748
DTSTART:20190405T153000
DTEND:20190405T193000
SEQUENCE:0
TRANSP:OPAQUE
END:VEVENT
END:VCALENDAR