BEGIN:VCALENDAR
VERSION:2.0
PRODID:-//jEvents 2.0 for Joomla//EN
CALSCALE:GREGORIAN
METHOD:PUBLISH
BEGIN:VEVENT
UID:0e06a92bdbc55c6fc4a1ebbeac2b9f01
CATEGORIES:Veranstaltungen
CREATED:20190207T153430
SUMMARY:Osterferien
DESCRIPTION:
DTSTAMP:20260423T121630
DTSTART;VALUE=DATE:20190415
DTEND;VALUE=DATE:20190424
SEQUENCE:0
TRANSP:OPAQUE
END:VEVENT
END:VCALENDAR