BEGIN:VCALENDAR
VERSION:2.0
PRODID:-//jEvents 2.0 for Joomla//EN
CALSCALE:GREGORIAN
METHOD:PUBLISH
BEGIN:VEVENT
UID:dc3c62bc8876df5d265af30d625e37c2
CATEGORIES:Veranstaltungen
CREATED:20190207T153513
SUMMARY:Drogeninfo 2wa
DESCRIPTION:
DTSTAMP:20260423T095748
DTSTART:20190424T060000
DTEND:20190424T080000
SEQUENCE:0
TRANSP:OPAQUE
END:VEVENT
END:VCALENDAR