BEGIN:VCALENDAR
VERSION:2.0
PRODID:-//jEvents 2.0 for Joomla//EN
CALSCALE:GREGORIAN
METHOD:PUBLISH
BEGIN:VEVENT
UID:cfdc36f2b4988238a75809b24c852514
CATEGORIES:Veranstaltungen
CREATED:20190207T153600
SUMMARY:Drogeninfo 2s und 2a
DESCRIPTION:
DTSTAMP:20260423T101405
DTSTART:20190430T060000
DTEND:20190430T080000
SEQUENCE:0
TRANSP:OPAQUE
END:VEVENT
END:VCALENDAR