BEGIN:VCALENDAR
VERSION:2.0
PRODID:-//jEvents 2.0 for Joomla//EN
CALSCALE:GREGORIAN
METHOD:PUBLISH
BEGIN:VEVENT
UID:514d78f73db0cdc210ba1bc2d41bb4ca
CATEGORIES:Veranstaltungen
CREATED:20190207T153716
SUMMARY:Sprachreise San Remo 4wa/4wb
DESCRIPTION:
DTSTAMP:20260423T181016
DTSTART:20190506T060000
DTEND:20190510T150000
SEQUENCE:0
TRANSP:OPAQUE
END:VEVENT
END:VCALENDAR