BEGIN:VCALENDAR
VERSION:2.0
PRODID:-//jEvents 2.0 for Joomla//EN
CALSCALE:GREGORIAN
METHOD:PUBLISH
BEGIN:VEVENT
UID:e8792b99023b4915322461e30d66f7a1
CATEGORIES:Veranstaltungen
CREATED:20190207T153852
SUMMARY:Diskussionsveranstaltung REA in der Sporthalle
DESCRIPTION:
DTSTAMP:20260423T162959
DTSTART:20190523T090000
DTEND:20190523T110000
SEQUENCE:0
TRANSP:OPAQUE
END:VEVENT
END:VCALENDAR