BEGIN:VCALENDAR
VERSION:2.0
PRODID:-//jEvents 2.0 for Joomla//EN
CALSCALE:GREGORIAN
METHOD:PUBLISH
BEGIN:VEVENT
UID:af9931d41a64f2332023a562319055f1
CATEGORIES:Veranstaltungen
CREATED:20190207T153946
SUMMARY:pädagogische Konferenz
DESCRIPTION:
DTSTAMP:20260423T180317
DTSTART:20190515T140000
DTEND:20190515T160000
SEQUENCE:0
TRANSP:OPAQUE
END:VEVENT
END:VCALENDAR