BEGIN:VCALENDAR
VERSION:2.0
PRODID:-//jEvents 2.0 for Joomla//EN
CALSCALE:GREGORIAN
METHOD:PUBLISH
BEGIN:VEVENT
UID:377a65c094e672ae999b972e8e2ea0a2
CATEGORIES:Veranstaltungen
CREATED:20190207T154019
SUMMARY:schulautonom frei
DESCRIPTION:
DTSTAMP:20260423T161751
DTSTART:20190531T060000
DTEND:20190531T150000
SEQUENCE:0
TRANSP:OPAQUE
END:VEVENT
END:VCALENDAR