BEGIN:VCALENDAR
VERSION:2.0
PRODID:-//jEvents 2.0 for Joomla//EN
CALSCALE:GREGORIAN
METHOD:PUBLISH
BEGIN:VEVENT
UID:683ec525e7ada306b4e265a9504c674a
CATEGORIES:Veranstaltungen
CREATED:20190207T154355
SUMMARY:HAK/HLW SchülerInnen in Cles - AustauschschülerInnen
DESCRIPTION:
DTSTAMP:20260423T170245
DTSTART:20190325T070000
DTEND:20190329T160000
SEQUENCE:0
TRANSP:OPAQUE
END:VEVENT
END:VCALENDAR