BEGIN:VCALENDAR
VERSION:2.0
PRODID:-//jEvents 2.0 for Joomla//EN
CALSCALE:GREGORIAN
METHOD:PUBLISH
BEGIN:VEVENT
UID:96d5f7483dd64d86adb6bcea02562c94
CATEGORIES:Veranstaltungen
CREATED:20190221T101055
SUMMARY:3A und 4A BTV Marketingtrophy IBK 
DESCRIPTION:
DTSTAMP:20260423T153502
DTSTART:20190314T070000
DTEND:20190314T150000
SEQUENCE:0
TRANSP:OPAQUE
END:VEVENT
END:VCALENDAR