BEGIN:VCALENDAR
VERSION:2.0
PRODID:-//jEvents 2.0 for Joomla//EN
CALSCALE:GREGORIAN
METHOD:PUBLISH
BEGIN:VEVENT
UID:8d1aa4cd3604735852954c44defa1837
CATEGORIES:Veranstaltungen
CREATED:20190226T123324
SUMMARY:Exkursion KZ Dachau 2s,4a,4wa,4wb
DESCRIPTION:
DTSTAMP:20260423T164809
DTSTART:20190312T070000
DTEND:20190312T160000
SEQUENCE:0
TRANSP:OPAQUE
END:VEVENT
END:VCALENDAR