BEGIN:VCALENDAR
VERSION:2.0
PRODID:-//jEvents 2.0 for Joomla//EN
CALSCALE:GREGORIAN
METHOD:PUBLISH
BEGIN:VEVENT
UID:434664444daa7b228864409cf4c2393c
CATEGORIES:Veranstaltungen
CREATED:20190226T132031
SUMMARY:Cocktailseminar 3wa/3wb
DESCRIPTION:
DTSTAMP:20260423T152537
DTSTART:20190305T130000
DTEND:20190305T163000
SEQUENCE:0
TRANSP:OPAQUE
END:VEVENT
END:VCALENDAR