BEGIN:VCALENDAR
VERSION:2.0
PRODID:-//jEvents 2.0 for Joomla//EN
CALSCALE:GREGORIAN
METHOD:PUBLISH
BEGIN:VEVENT
UID:34f78e2fb3903d99ec5fd65e2f064132
CATEGORIES:Veranstaltungen
CREATED:20190226T132244
SUMMARY:Uni goes Reutte 4a/4w
DESCRIPTION:
DTSTAMP:20260423T152428
DTSTART:20190306T110000
DTEND:20190306T123000
SEQUENCE:0
TRANSP:OPAQUE
END:VEVENT
END:VCALENDAR