BEGIN:VCALENDAR
VERSION:2.0
PRODID:-//jEvents 2.0 for Joomla//EN
CALSCALE:GREGORIAN
METHOD:PUBLISH
BEGIN:VEVENT
UID:e0c377e169f9b15e6e31cf7f07393098
CATEGORIES:Termine
CREATED:20190226T165100
SUMMARY:2. Elternsprechtag
DESCRIPTION:
DTSTAMP:20260423T101707
DTSTART:20190410T143000
DTEND:20190410T173000
SEQUENCE:0
TRANSP:OPAQUE
END:VEVENT
END:VCALENDAR