BEGIN:VCALENDAR
VERSION:2.0
PRODID:-//jEvents 2.0 for Joomla//EN
CALSCALE:GREGORIAN
METHOD:PUBLISH
BEGIN:VEVENT
UID:330fa81e426e63eec95df44753fdf420
CATEGORIES:Veranstaltungen
CREATED:20190226T172008
SUMMARY:Schule-Wirtschaft Arbeitskreis WK Reutte
DESCRIPTION:
DTSTAMP:20260423T101259
DTSTART:20190411T150000
DTEND:20190411T170000
SEQUENCE:0
TRANSP:OPAQUE
END:VEVENT
END:VCALENDAR