BEGIN:VCALENDAR
VERSION:2.0
PRODID:-//jEvents 2.0 for Joomla//EN
CALSCALE:GREGORIAN
METHOD:PUBLISH
BEGIN:VEVENT
UID:ddd953cc8fb1ad48dfc71ab350669edf
CATEGORIES:Veranstaltungen
CREATED:20190311T181538
SUMMARY:Exkursion 3S Bezirksgericht Reutte
DESCRIPTION:
DTSTAMP:20260423T101839
DTSTART:20190401T075000
DTEND:20190401T084000
SEQUENCE:0
TRANSP:OPAQUE
END:VEVENT
END:VCALENDAR