BEGIN:VCALENDAR
VERSION:2.0
PRODID:-//jEvents 2.0 for Joomla//EN
CALSCALE:GREGORIAN
METHOD:PUBLISH
BEGIN:VEVENT
UID:3b7b6732620e032024edc10128be06c3
CATEGORIES:Veranstaltungen
CREATED:20190321T110605
SUMMARY:Osterbacken mit VS Vorderhornbach 3w UDML/GESO
DESCRIPTION:
DTSTAMP:20260423T101910
DTSTART:20190401T120000
DTEND:20190401T140000
SEQUENCE:0
TRANSP:OPAQUE
END:VEVENT
END:VCALENDAR