BEGIN:VCALENDAR
VERSION:2.0
PRODID:-//jEvents 2.0 for Joomla//EN
CALSCALE:GREGORIAN
METHOD:PUBLISH
BEGIN:VEVENT
UID:844f408238cacfdfb6ada9a4f0faf946
CATEGORIES:Veranstaltungen
CREATED:20190403T140749
SUMMARY:Exkursion Allgäuer Hochschulmesse Kempten,4a,4wa,4wb,5a,5w,
DESCRIPTION:
DTSTAMP:20260423T101204
DTSTART:20190410T060000
DTEND:20190410T120000
SEQUENCE:0
TRANSP:OPAQUE
END:VEVENT
END:VCALENDAR