BEGIN:VCALENDAR
VERSION:2.0
PRODID:-//jEvents 2.0 for Joomla//EN
CALSCALE:GREGORIAN
METHOD:PUBLISH
BEGIN:VEVENT
UID:6b688f033124b20556b0f2b781470eb6
CATEGORIES:Veranstaltungen
CREATED:20190408T115214
SUMMARY:Exkursion Bezirksgericht Reutte 4a und 5w
DESCRIPTION:
DTSTAMP:20260423T101204
DTSTART:20190409T120000
DTEND:20190409T140000
SEQUENCE:0
TRANSP:OPAQUE
END:VEVENT
END:VCALENDAR