BEGIN:VCALENDAR
VERSION:2.0
PRODID:-//jEvents 2.0 for Joomla//EN
CALSCALE:GREGORIAN
METHOD:PUBLISH
BEGIN:VEVENT
UID:a8ee5819bb7e74271d29d05ba66c58a3
CATEGORIES:Veranstaltungen
CREATED:20190408T115326
SUMMARY:Vortrag Sparkasse Reutte 1a und 1s
DESCRIPTION:
DTSTAMP:20260423T101834
DTSTART:20190411T075000
DTEND:20190411T084000
SEQUENCE:0
TRANSP:OPAQUE
END:VEVENT
END:VCALENDAR