BEGIN:VCALENDAR
VERSION:2.0
PRODID:-//jEvents 2.0 for Joomla//EN
CALSCALE:GREGORIAN
METHOD:PUBLISH
BEGIN:VEVENT
UID:6629c23d12a689a5c43b76d6136cbf50
CATEGORIES:Veranstaltungen
CREATED:20190514T093701
SUMMARY:Exkursion 4a LKW Walter Kufstein
DESCRIPTION:
DTSTAMP:20260423T162939
DTSTART:20190517T060000
DTEND:20190517T150000
SEQUENCE:0
TRANSP:OPAQUE
END:VEVENT
END:VCALENDAR