BEGIN:VCALENDAR
VERSION:2.0
PRODID:-//jEvents 2.0 for Joomla//EN
CALSCALE:GREGORIAN
METHOD:PUBLISH
BEGIN:VEVENT
UID:45202fb3d54386bbe407f75d901593aa
CATEGORIES:Veranstaltungen
CREATED:20190617T120515
SUMMARY:2.Nebentermin RDP 2018/19
DESCRIPTION:
DTSTAMP:20260425T153727
DTSTART:20200219T070000
DTEND:20200219T110000
SEQUENCE:0
TRANSP:OPAQUE
END:VEVENT
END:VCALENDAR