BEGIN:VCALENDAR
VERSION:2.0
PRODID:-//jEvents 2.0 for Joomla//EN
CALSCALE:GREGORIAN
METHOD:PUBLISH
BEGIN:VEVENT
UID:8d8c4a29c731b6d0a746986033dccbbe
CATEGORIES:Veranstaltungen
CREATED:20190724T105359
SUMMARY:schulfrei
DESCRIPTION:
DTSTAMP:20260425T154205
DTSTART:20191223T070000
DTEND:20191223T160000
SEQUENCE:0
TRANSP:OPAQUE
END:VEVENT
END:VCALENDAR