BEGIN:VCALENDAR
VERSION:2.0
PRODID:-//jEvents 2.0 for Joomla//EN
CALSCALE:GREGORIAN
METHOD:PUBLISH
BEGIN:VEVENT
UID:05fbcb858ae61265422447104f3f268a
CATEGORIES:Veranstaltungen
CREATED:20190724T105448
SUMMARY:Weihnachtsferien
DESCRIPTION:
DTSTAMP:20260425T122100
DTSTART:20191224T070000
DTEND:20200105T160000
SEQUENCE:0
TRANSP:OPAQUE
END:VEVENT
END:VCALENDAR