BEGIN:VCALENDAR
VERSION:2.0
PRODID:-//jEvents 2.0 for Joomla//EN
CALSCALE:GREGORIAN
METHOD:PUBLISH
BEGIN:VEVENT
UID:164bb9c790756d9d9eeb8ccc70898da7
CATEGORIES:Veranstaltungen
CREATED:20190724T105754
SUMMARY:Anmeldung Schuljahr 2020/21
DESCRIPTION:<p><strong>Anmeldezeiten:</strong></p><p>Freitag, den 07.02.2020von 10:00 U
 hr bis 15:00 Uhr - im Sekretariat der HAK/HAS und HLW</p><p><strong>in den 
 Semesterferien</strong></p><p>Montag und Dienstag, von 09:00 bis 12:00 Uhr 
 - nur im Sekretariat der HLW</p><p><strong>nach den Semesterferien</strong>
 </p><p>von 08:00 bis 12:00 Uhr - im Sekretariat der HAK und HLW<br />und vo
 n 14:00 bis 16:00 Uhr - nur im Sekretariat der HAK</p>
DTSTAMP:20260425T123019
DTSTART:20200207T090000
DTEND:20200228T160000
SEQUENCE:0
TRANSP:OPAQUE
END:VEVENT
END:VCALENDAR