BEGIN:VCALENDAR
VERSION:2.0
PRODID:-//jEvents 2.0 for Joomla//EN
CALSCALE:GREGORIAN
METHOD:PUBLISH
BEGIN:VEVENT
UID:38a6a6efa6a64ce536b8796687eef4c2
CATEGORIES:Veranstaltungen
CREATED:20190724T105912
SUMMARY:Unsinniger Donnerstag
DESCRIPTION:
DTSTAMP:20260425T154043
DTSTART:20200220T110000
DTEND:20200220T160000
SEQUENCE:0
TRANSP:OPAQUE
END:VEVENT
END:VCALENDAR