BEGIN:VCALENDAR
VERSION:2.0
PRODID:-//jEvents 2.0 for Joomla//EN
CALSCALE:GREGORIAN
METHOD:PUBLISH
BEGIN:VEVENT
UID:f452ab8697d69b738a90715934bc4a2a
CATEGORIES:Veranstaltungen
CREATED:20190724T110106
SUMMARY:Landesfeiertag Josefi - schulfrei
DESCRIPTION:
DTSTAMP:20260425T202552
DTSTART:20200319T070000
DTEND:20200319T160000
SEQUENCE:0
TRANSP:OPAQUE
END:VEVENT
END:VCALENDAR