BEGIN:VCALENDAR
VERSION:2.0
PRODID:-//jEvents 2.0 for Joomla//EN
CALSCALE:GREGORIAN
METHOD:PUBLISH
BEGIN:VEVENT
UID:a3d99fed6a1ff6655c998215447c691a
CATEGORIES:Veranstaltungen
CREATED:20190724T110300
SUMMARY:Osterferien
DESCRIPTION:
DTSTAMP:20260425T135546
DTSTART:20200406T060000
DTEND:20200413T150000
SEQUENCE:0
TRANSP:OPAQUE
END:VEVENT
END:VCALENDAR