BEGIN:VCALENDAR
VERSION:2.0
PRODID:-//jEvents 2.0 for Joomla//EN
CALSCALE:GREGORIAN
METHOD:PUBLISH
BEGIN:VEVENT
UID:124d5539c9c13d9ba2cdbbdcadb24ad9
CATEGORIES:Veranstaltungen
CREATED:20190724T110741
SUMMARY:letzter Schultag 5a,5wa,5wb
DESCRIPTION:
DTSTAMP:20260425T135823
DTSTART:20200430T060000
DTEND:20200430T150000
SEQUENCE:0
TRANSP:OPAQUE
END:VEVENT
END:VCALENDAR