BEGIN:VCALENDAR
VERSION:2.0
PRODID:-//jEvents 2.0 for Joomla//EN
CALSCALE:GREGORIAN
METHOD:PUBLISH
BEGIN:VEVENT
UID:39a6e5914b542c6ccd00b76df853fb72
CATEGORIES:Veranstaltungen
CREATED:20190724T111822
SUMMARY:Feiertag Christi Himmelfahrt
DESCRIPTION:
DTSTAMP:20260425T201954
DTSTART:20200521T060000
DTEND:20200521T150000
SEQUENCE:0
TRANSP:OPAQUE
END:VEVENT
END:VCALENDAR