BEGIN:VCALENDAR
VERSION:2.0
PRODID:-//jEvents 2.0 for Joomla//EN
CALSCALE:GREGORIAN
METHOD:PUBLISH
BEGIN:VEVENT
UID:f1b6ba9f563ed8cc76a242661be8dea4
CATEGORIES:Veranstaltungen
CREATED:20190724T112353
SUMMARY:Pfingstmontag
DESCRIPTION:
DTSTAMP:20260425T153853
DTSTART:20200601T060000
DTEND:20200601T150000
SEQUENCE:0
TRANSP:OPAQUE
END:VEVENT
END:VCALENDAR