BEGIN:VCALENDAR
VERSION:2.0
PRODID:-//jEvents 2.0 for Joomla//EN
CALSCALE:GREGORIAN
METHOD:PUBLISH
BEGIN:VEVENT
UID:f451edb0b184542144ab4c41f4bc7d9b
CATEGORIES:Veranstaltungen
CREATED:20190724T112605
SUMMARY:Feiertag Fronleichnam
DESCRIPTION:
DTSTAMP:20260425T154017
DTSTART:20200611T060000
DTEND:20200611T150000
SEQUENCE:0
TRANSP:OPAQUE
END:VEVENT
END:VCALENDAR