BEGIN:VCALENDAR
VERSION:2.0
PRODID:-//jEvents 2.0 for Joomla//EN
CALSCALE:GREGORIAN
METHOD:PUBLISH
BEGIN:VEVENT
UID:954d71743ea641210819d25f1418d3ac
CATEGORIES:Veranstaltungen
CREATED:20190911T103322
SUMMARY:3.Pädagogische Konferenz
DESCRIPTION:
DTSTAMP:20260425T153843
DTSTART:20191211T150000
DTEND:20191211T160000
SEQUENCE:0
TRANSP:OPAQUE
END:VEVENT
END:VCALENDAR