BEGIN:VCALENDAR
VERSION:2.0
PRODID:-//jEvents 2.0 for Joomla//EN
CALSCALE:GREGORIAN
METHOD:PUBLISH
BEGIN:VEVENT
UID:36ffb3b4a531089a3e2d3acaf979bbc8
CATEGORIES:Veranstaltungen
CREATED:20190911T144824
SUMMARY:Tag der offenen Tür
DESCRIPTION:
DTSTAMP:20260425T122910
DTSTART:20200110T100000
DTEND:20200110T160000
SEQUENCE:0
TRANSP:OPAQUE
END:VEVENT
END:VCALENDAR