BEGIN:VCALENDAR
VERSION:2.0
PRODID:-//jEvents 2.0 for Joomla//EN
CALSCALE:GREGORIAN
METHOD:PUBLISH
BEGIN:VEVENT
UID:e9496e8d6e8d112cd468ce8eddc36bb3
CATEGORIES:Termine
CREATED:20191001T093041
SUMMARY:Charity-Aktion Rapunzel
DESCRIPTION:Diplomarbeitsprojekt HLW Reutte\nZielsetzung: Haarspendeaktion für Perücken
  für krebskranke Kinder und Jugendliche\nRosa Lämmle und Tamara Krstic\n
X-ALT-DESC;FMTTYPE=text/html:<p>Diplomarbeitsprojekt HLW Reutte</p><p>Zielsetzung: Haarspendeaktion für 
 Perücken für krebskranke Kinder und Jugendliche</p><p>Rosa Lämmle und Tamar
 a Krstic</p>
DTSTAMP:20260423T153812
DTSTART;VALUE=DATE:20191115
DTEND;VALUE=DATE:20191116
SEQUENCE:0
TRANSP:OPAQUE
END:VEVENT
END:VCALENDAR