BEGIN:VCALENDAR
VERSION:2.0
PRODID:-//jEvents 2.0 for Joomla//EN
CALSCALE:GREGORIAN
METHOD:PUBLISH
BEGIN:VEVENT
UID:d02251f3d141de8c470b7d31839daf83
CATEGORIES:Veranstaltungen
CREATED:20191111T100907
SUMMARY:Exkursion Fa. Rauch Rankweil, 1wa,1wb
DESCRIPTION:
DTSTAMP:20260425T122225
DTSTART:20200123T070000
DTEND:20200123T160000
SEQUENCE:0
TRANSP:OPAQUE
END:VEVENT
END:VCALENDAR