BEGIN:VCALENDAR
VERSION:2.0
PRODID:-//jEvents 2.0 for Joomla//EN
CALSCALE:GREGORIAN
METHOD:PUBLISH
BEGIN:VEVENT
UID:99f0fd16a10293d86e1267c6668d07b6
CATEGORIES:Veranstaltungen
CREATED:20191202T160215
SUMMARY:Exkursion 4a,4wa,4wb,2s Gedenkstätte KZ Dachau
DESCRIPTION:
DTSTAMP:20260425T122028
DTSTART:20200217T070000
DTEND:20200217T160000
SEQUENCE:0
TRANSP:OPAQUE
END:VEVENT
END:VCALENDAR